BEGIN:VCALENDAR
VERSION:2.0
PRODID:-//sps-hegnau.ch//NONSGML Kalender.iCal 1.0//EN
BEGIN:VEVENT
SUMMARY:Volks- und Firmenschiessen
DTEND:20260825T200000
DTSTAMP:20260420T225539
DTSTART:20260825T170000
SEQUENCE:0
UID:1de6f046-0a24-45b9-abca-dd3e68b00159
END:VEVENT
BEGIN:VEVENT
SUMMARY:Volks- und Firmenschiessen
DTEND:20260826T200000
DTSTAMP:20260420T225539
DTSTART:20260826T170000
SEQUENCE:0
UID:1de6f046-0a24-45b9-abca-dd3e68b00160
END:VEVENT
END:VCALENDAR
