BEGIN:VCALENDAR
VERSION:2.0
PRODID:-//sps-hegnau.ch//NONSGML Kalender.iCal 1.0//EN
BEGIN:VEVENT
SUMMARY:Göttischiessen Fehraltorf-Männedorf-Hegnau
DTEND:20260426T120000
DTSTAMP:20260420T225657
DTSTART:20260426T080000
SEQUENCE:0
UID:1de6f046-0a24-45b9-abca-dd3e68b00146
END:VEVENT
END:VCALENDAR
