BEGIN:VCALENDAR
VERSION:2.0
PRODID:-//sps-hegnau.ch//NONSGML Kalender.iCal 1.0//EN
BEGIN:VEVENT
SUMMARY:SSV GM Final Nachwuchs
DTEND:20260628T235900
DTSTAMP:20260420T225534
DTSTART:20260628T000000
SEQUENCE:0
UID:1de6f046-0a24-45b9-abca-dd3e68b00154
END:VEVENT
END:VCALENDAR
