BEGIN:VCALENDAR
VERSION:2.0
PRODID:-//sps-hegnau.ch//NONSGML Kalender.iCal 1.0//EN
BEGIN:VEVENT
SUMMARY:Vet.Schiessen VSSZH Final
DTEND:20260919T124500
DTSTAMP:20260420T225702
DTSTART:20260919T100000
SEQUENCE:0
UID:1de6f046-0a24-45b9-abca-dd3e68b00162
END:VEVENT
END:VCALENDAR
