BEGIN:VCALENDAR
VERSION:2.0
PRODID:-//sps-hegnau.ch//NONSGML Kalender.iCal 1.0//EN
BEGIN:VEVENT
SUMMARY:Jugendschiessen der teiln.Verb.
DTEND:20260822T120000
DTSTAMP:20260420T230102
DTSTART:20260822T080000
SEQUENCE:0
UID:1de6f046-0a24-45b9-abca-dd3e68b00158
END:VEVENT
END:VCALENDAR
