BEGIN:VCALENDAR
VERSION:2.0
PRODID:-//sps-hegnau.ch//NONSGML Kalender.iCal 1.0//EN
BEGIN:VEVENT
SUMMARY:Vet.Schiessen VSSZH
DTEND:20260508T190000
DTSTAMP:20260420T225855
DTSTART:20260508T160000
SEQUENCE:0
UID:1de6f046-0a24-45b9-abca-dd3e68b00147
END:VEVENT
BEGIN:VEVENT
SUMMARY:Vet.Schiessen VSSZH
DTEND:20260530T120000
DTSTAMP:20260420T225855
DTSTART:20260530T093000
SEQUENCE:0
UID:1de6f046-0a24-45b9-abca-dd3e68b00148
END:VEVENT
END:VCALENDAR
