BEGIN:VCALENDAR
VERSION:2.0
PRODID:-//sps-hegnau.ch//NONSGML Kalender.iCal 1.0//EN
BEGIN:VEVENT
SUMMARY:ZHSV GM Final
DTEND:20260621T235900
DTSTAMP:20260420T230341
DTSTART:20260621T000000
SEQUENCE:0
UID:1de6f046-0a24-45b9-abca-dd3e68b00151
END:VEVENT
END:VCALENDAR
