BEGIN:VCALENDAR
VERSION:2.0
PRODID:-//sps-hegnau.ch//NONSGML Kalender.iCal 1.0//EN
BEGIN:VEVENT
SUMMARY:Junioren-Göttischiessen
DTEND:20260830T120000
DTSTAMP:20260420T230250
DTSTART:20260830T090000
SEQUENCE:0
UID:1de6f046-0a24-45b9-abca-dd3e68b00161
END:VEVENT
END:VCALENDAR
