BEGIN:VCALENDAR
VERSION:2.0
PRODID:-//sps-hegnau.ch//NONSGML Kalender.iCal 1.0//EN
BEGIN:VEVENT
SUMMARY:Helferessen / Absenden Jahresmeisterschaft
DTEND:20261106T213000
DTSTAMP:20260420T225539
DTSTART:20261106T183000
SEQUENCE:0
UID:1de6f046-0a24-45b9-abca-dd3e68b00165
END:VEVENT
END:VCALENDAR
