BEGIN:VCALENDAR
VERSION:2.0
PRODID:-//sps-hegnau.ch//NONSGML Kalender.iCal 1.0//EN
BEGIN:VEVENT
SUMMARY:SSV Vereins-Wettschiessen
DTEND:20260821T200000
DTSTAMP:20260420T225825
DTSTART:20260821T173000
SEQUENCE:0
UID:1de6f046-0a24-45b9-abca-dd3e68b00156
END:VEVENT
BEGIN:VEVENT
SUMMARY:SSV Vereins-Wettschiessen
DTEND:20260905T113000
DTSTAMP:20260420T225825
DTSTART:20260905T080000
SEQUENCE:0
UID:1de6f046-0a24-45b9-abca-dd3e68b00157
END:VEVENT
END:VCALENDAR
