BEGIN:VCALENDAR
VERSION:2.0
PRODID:-//sps-hegnau.ch//NONSGML Kalender.iCal 1.0//EN
BEGIN:VEVENT
SUMMARY:Schülerschiessen
DTEND:20260624T200000
DTSTAMP:20260420T230024
DTSTART:20260624T173000
SEQUENCE:0
UID:1de6f046-0a24-45b9-abca-dd3e68b00152
END:VEVENT
BEGIN:VEVENT
SUMMARY:Schülerschiessen
DTEND:20260701T200000
DTSTAMP:20260420T230024
DTSTART:20260701T173000
SEQUENCE:0
UID:1de6f046-0a24-45b9-abca-dd3e68b00155
END:VEVENT
END:VCALENDAR
