BEGIN:VCALENDAR
VERSION:2.0
PRODID:-//sps-hegnau.ch//NONSGML Kalender.iCal 1.0//EN
BEGIN:VEVENT
SUMMARY:Verbandsschiessen
DTEND:20260522T200000
DTSTAMP:20260420T230152
DTSTART:20260522T173000
SEQUENCE:0
UID:1de6f046-0a24-45b9-abca-dd3e68b00149
END:VEVENT
BEGIN:VEVENT
SUMMARY:Verbandsschiessen
DTEND:20260606T113000
DTSTAMP:20260420T230152
DTSTART:20260606T080000
SEQUENCE:0
UID:1de6f046-0a24-45b9-abca-dd3e68b00150
END:VEVENT
END:VCALENDAR
